BEGIN:VCALENDAR
VERSION:2.0
PRODID:-//Joy Redstone Art - ECPv6.15.20//NONSGML v1.0//EN
CALSCALE:GREGORIAN
METHOD:PUBLISH
X-WR-CALNAME:Joy Redstone Art
X-ORIGINAL-URL:https://joyredstoneart.com
X-WR-CALDESC:Events for Joy Redstone Art
REFRESH-INTERVAL;VALUE=DURATION:PT1H
X-Robots-Tag:noindex
X-PUBLISHED-TTL:PT1H
BEGIN:VTIMEZONE
TZID:UTC
BEGIN:STANDARD
TZOFFSETFROM:+0000
TZOFFSETTO:+0000
TZNAME:UTC
DTSTART:20200101T000000
END:STANDARD
END:VTIMEZONE
BEGIN:VEVENT
DTSTART;VALUE=DATE:20220811
DTEND;VALUE=DATE:20220829
DTSTAMP:20260425T031358
CREATED:20220725T182233Z
LAST-MODIFIED:20220725T182233Z
UID:3619-1660176000-1661731199@joyredstoneart.com
SUMMARY:Beyond 2D Sculpture Show
DESCRIPTION:Run\, Rabbit was chosen for this juried show.
URL:https://joyredstoneart.com/event/beyond-2d-sculpture-show/
LOCATION:Spark Gallery\, 900 Santa Fe Dr\, Denver\, CO\, 80204\, United States
END:VEVENT
BEGIN:VEVENT
DTSTART;VALUE=DATE:20220804
DTEND;VALUE=DATE:20220901
DTSTAMP:20260425T031358
CREATED:20220715T152655Z
LAST-MODIFIED:20220715T152837Z
UID:3604-1659571200-1661990399@joyredstoneart.com
SUMMARY:Small Works\, Big Talent 2022
DESCRIPTION:Boulder Boy was chosen for this online show.
URL:https://joyredstoneart.com/event/small-works-big-talent-2022/
LOCATION:Las Laguna Gallery\, 577 S. Coast Highway Unit A-1\, Laguna Beach\, CA\, 92651\, United States
END:VEVENT
BEGIN:VEVENT
DTSTART;VALUE=DATE:20220722
DTEND;VALUE=DATE:20220924
DTSTAMP:20260425T031359
CREATED:20220710T144226Z
LAST-MODIFIED:20220710T144226Z
UID:3594-1658448000-1663977599@joyredstoneart.com
SUMMARY:Small Works Show
DESCRIPTION:The Witnesses was accepted into this juried show.
URL:https://joyredstoneart.com/event/small-works-show/
LOCATION:3Cs Art Collective\, 402 Main St. #C\, Lyons\, CO\, 80540\, United States
END:VEVENT
BEGIN:VEVENT
DTSTART;VALUE=DATE:20220716
DTEND;VALUE=DATE:20220801
DTSTAMP:20260425T031359
CREATED:20220616T140905Z
LAST-MODIFIED:20220616T140905Z
UID:3573-1657929600-1659311999@joyredstoneart.com
SUMMARY:Lineage: Solo Show
DESCRIPTION:An exploration of trauma and resilience through the lineage of family. Joy’s works represent her complicated yet loving relationship with her family of origin.
URL:https://joyredstoneart.com/event/lineage-solo-show/
LOCATION:Next Gallery\, 6851 W Colfax Ave\, Lakewood\, CO\, 80214\, United States
END:VEVENT
BEGIN:VEVENT
DTSTART;VALUE=DATE:20220709
DTEND;VALUE=DATE:20220828
DTSTAMP:20260425T031359
CREATED:20220616T140401Z
LAST-MODIFIED:20220616T140401Z
UID:3570-1657324800-1661644799@joyredstoneart.com
SUMMARY:39th Annual All Colorado Art Show
DESCRIPTION:Let Loss Be Your Guide was accepted into this juried show.
URL:https://joyredstoneart.com/event/39th-annual-all-colorado-art-show/
LOCATION:Curtis Center for the Arts\, 2349 East Orchard Rd\, Greenwood Village\, 80121\, United States
END:VEVENT
BEGIN:VEVENT
DTSTART;VALUE=DATE:20220707
DTEND;VALUE=DATE:20220731
DTSTAMP:20260425T031359
CREATED:20220630T182805Z
LAST-MODIFIED:20220630T182805Z
UID:3580-1657152000-1659225599@joyredstoneart.com
SUMMARY:Women in Art 2022
DESCRIPTION:“Let Loss Be Your Guide” was chosen for this online show.
URL:https://joyredstoneart.com/event/women-in-art-2022/
LOCATION:Las Laguna Gallery\, 577 S. Coast Highway Unit A-1\, Laguna Beach\, CA\, 92651\, United States
END:VEVENT
BEGIN:VEVENT
DTSTART;VALUE=DATE:20220513
DTEND;VALUE=DATE:20220514
DTSTAMP:20260425T031359
CREATED:20220418T223644Z
LAST-MODIFIED:20220418T223916Z
UID:3498-1652400000-1652486399@joyredstoneart.com
SUMMARY:Animal Kingdom Exhibition
DESCRIPTION:“Wood Sprite” and “Where I Go” were chosen for this juried exhibit.
URL:https://joyredstoneart.com/event/animal-kingdom-exhibition/
LOCATION:Niza Knoll Gallery\, 915 Santa Fe Dr\, Denver\, CO\, 80204\, United States
END:VEVENT
BEGIN:VEVENT
DTSTART;VALUE=DATE:20220513
DTEND;VALUE=DATE:20220603
DTSTAMP:20260425T031359
CREATED:20220406T213621Z
LAST-MODIFIED:20220406T213621Z
UID:3487-1652400000-1654214399@joyredstoneart.com
SUMMARY:National Fine Art Show: Lincoln Gallery
DESCRIPTION:“Assunta” was accepted into this juried show.
URL:https://joyredstoneart.com/event/national-fine-art-show-lincoln-gallery/
LOCATION:Lincoln Gallery\, 429 N Lincoln Ave #5617\,\, Loveland\, CO\, United States
END:VEVENT
BEGIN:VEVENT
DTSTART;VALUE=DATE:20220506
DTEND;VALUE=DATE:20220823
DTSTAMP:20260425T031359
CREATED:20220501T215949Z
LAST-MODIFIED:20220501T215949Z
UID:3508-1651795200-1661212799@joyredstoneart.com
SUMMARY:Elements
DESCRIPTION:Self Remembrance and Everything Ends were chosen.
URL:https://joyredstoneart.com/event/elements/
LOCATION:First United Methodist Church\, 1421 Spruce St\, Boulder\, CO\, 80302\, United States
END:VEVENT
BEGIN:VEVENT
DTSTART;VALUE=DATE:20220427
DTEND;VALUE=DATE:20220530
DTSTAMP:20260425T031359
CREATED:20220412T205913Z
LAST-MODIFIED:20220412T205913Z
UID:3492-1651017600-1653868799@joyredstoneart.com
SUMMARY:Boulder Art Association 2022 National Juried Art Exhibition
DESCRIPTION:“I Dreamed of Paris” and “Boulder Boy” were accepted to this show.
URL:https://joyredstoneart.com/event/boulder-art-association-2022-national-juried-art-exhibition/
LOCATION:R Gallery\, 2027 Broadway\, Boulder\, 80302\, United States
END:VEVENT
BEGIN:VEVENT
DTSTART;VALUE=DATE:20220318
DTEND;VALUE=DATE:20220321
DTSTAMP:20260425T031359
CREATED:20220217T023146Z
LAST-MODIFIED:20220217T023146Z
UID:3392-1647561600-1647820799@joyredstoneart.com
SUMMARY:Wildlife Art Event/Life in the West Gallery
DESCRIPTION:The Leap and The Sentinel were accepted into this juried show.
URL:https://joyredstoneart.com/event/wildlife-art-event-life-in-the-west-gallery/
LOCATION:Life in the West Gallery\, 555 Alter St. Unit #3\, Broomfield\, CO\, 80020\, United States
END:VEVENT
BEGIN:VEVENT
DTSTART;VALUE=DATE:20220315
DTEND;VALUE=DATE:20220515
DTSTAMP:20260425T031359
CREATED:20220306T205358Z
LAST-MODIFIED:20220306T205358Z
UID:3441-1647302400-1652572799@joyredstoneart.com
SUMMARY:Expression 2022
DESCRIPTION:The Light Dance (photograph) was accepted into this nationally juried virtual show.
URL:https://joyredstoneart.com/event/expression-2022/
LOCATION:Marin Society of Artists\, 1515 3rd St & E Street\, San Rafael\, CO\, 94901\, United States
END:VEVENT
BEGIN:VEVENT
DTSTART;VALUE=DATE:20220219
DTEND;VALUE=DATE:20220321
DTSTAMP:20260425T031359
CREATED:20220215T180310Z
LAST-MODIFIED:20220215T180423Z
UID:3378-1645228800-1647820799@joyredstoneart.com
SUMMARY:Casa Bonita Show
DESCRIPTION:Pretty in Pink is in this juried show.
URL:https://joyredstoneart.com/event/casa-bonita-show/
LOCATION:Next Gallery\, 6851 W Colfax Ave\, Lakewood\, CO\, 80214\, United States
END:VEVENT
BEGIN:VEVENT
DTSTART;VALUE=DATE:20220212
DTEND;VALUE=DATE:20220228
DTSTAMP:20260425T031359
CREATED:20220215T181433Z
LAST-MODIFIED:20220215T181731Z
UID:3382-1644624000-1646006399@joyredstoneart.com
SUMMARY:Dark Heart Show
DESCRIPTION:Of Monsters and Men and I Will Always Love You were chosen for this juried show.
URL:https://joyredstoneart.com/event/dark-heart-show/
LOCATION:Kanon Collective\, 6851 W. Colfax Ave\, Lakewood\, CO\, 80214
END:VEVENT
BEGIN:VEVENT
DTSTART;VALUE=DATE:20220204
DTEND;VALUE=DATE:20220215
DTSTAMP:20260425T031359
CREATED:20220215T180034Z
LAST-MODIFIED:20220215T180034Z
UID:3375-1643932800-1644883199@joyredstoneart.com
SUMMARY:Evolving
DESCRIPTION:Self Remembrance is in this nationally juried show.
URL:https://joyredstoneart.com/event/evolving/
LOCATION:Next Gallery\, 6851 W Colfax Ave\, Lakewood\, CO\, 80214\, United States
END:VEVENT
BEGIN:VEVENT
DTSTART;VALUE=DATE:20220115
DTEND;VALUE=DATE:20220215
DTSTAMP:20260425T031359
CREATED:20211230T231309Z
LAST-MODIFIED:20211230T231413Z
UID:3319-1642204800-1644883199@joyredstoneart.com
SUMMARY:Mental Health
DESCRIPTION:“I Will Protect You”\, “Heart of Ice”\, “When She Spoke” and “What Lies Beneath” were chosen for this juried online show.
URL:https://joyredstoneart.com/event/mental-health/
LOCATION:Tebbs Gallery\, London\, United Kingdom
END:VEVENT
BEGIN:VEVENT
DTSTART;VALUE=DATE:20220102
DTEND;VALUE=DATE:20220425
DTSTAMP:20260425T031359
CREATED:20211223T182448Z
LAST-MODIFIED:20211223T182448Z
UID:3315-1641081600-1650844799@joyredstoneart.com
SUMMARY:Reflections
DESCRIPTION:Within\, Assunta and Heart of Ice were chosen for this juried show.
URL:https://joyredstoneart.com/event/reflections/
LOCATION:First United Methodist Church\, 1421 Spruce St\, Boulder\, CO\, 80302\, United States
END:VEVENT
BEGIN:VEVENT
DTSTART;TZID=UTC:20211210T080000
DTEND;TZID=UTC:20220102T170000
DTSTAMP:20260425T031359
CREATED:20211223T182123Z
LAST-MODIFIED:20211223T182123Z
UID:3313-1639123200-1641142800@joyredstoneart.com
SUMMARY:Next Holiday Market
DESCRIPTION:“I Dreamed of Christmas”\, “Take Me\, I’m Yours”\, “The Gift\, Unopened”\, “Sigh Meter” and “I Have Always Loved You” are in this annual member show.
URL:https://joyredstoneart.com/event/next-holiday-market/
LOCATION:Next Gallery\, 6851 W Colfax Ave\, Lakewood\, CO\, 80214\, United States
END:VEVENT
BEGIN:VEVENT
DTSTART;VALUE=DATE:20211202
DTEND;VALUE=DATE:20220101
DTSTAMP:20260425T031359
CREATED:20211130T223852Z
LAST-MODIFIED:20211130T223852Z
UID:3296-1638403200-1640995199@joyredstoneart.com
SUMMARY:Botanical Art and Illustration
DESCRIPTION:“What Lies Beneath” was chosen for this juried online show
URL:https://joyredstoneart.com/event/botanical-art-and-illustration/
LOCATION:Las Laguna Gallery\, 577 S. Coast Highway Unit A-1\, Laguna Beach\, CA\, 92651\, United States
END:VEVENT
BEGIN:VEVENT
DTSTART;VALUE=DATE:20211115
DTEND;VALUE=DATE:20211116
DTSTAMP:20260425T031359
CREATED:20210830T142739Z
LAST-MODIFIED:20210830T142739Z
UID:2987-1636934400-1637020799@joyredstoneart.com
SUMMARY:Lone Tree Fine Art Expo
DESCRIPTION:“The Witnesses” was chosen for this juried show.
URL:https://joyredstoneart.com/event/lone-tree-fine-art-expo/
LOCATION:Lone Tree Fine Art Expo\, 10075 Commons St\, Lone Tree\, CO\, 80124\, United States
END:VEVENT
BEGIN:VEVENT
DTSTART;VALUE=DATE:20211111
DTEND;VALUE=DATE:20220101
DTSTAMP:20260425T031359
CREATED:20211021T002828Z
LAST-MODIFIED:20211021T002828Z
UID:3266-1636588800-1640995199@joyredstoneart.com
SUMMARY:Own an Original
DESCRIPTION:What Lies Beneath was chosen for this juried show.
URL:https://joyredstoneart.com/event/own-an-original/
LOCATION:Littleton Museum\, 6028 S. Gallup St.\, Littleton\, CO\, 80120\, United States
END:VEVENT
BEGIN:VEVENT
DTSTART;VALUE=DATE:20211006
DTEND;VALUE=DATE:20211108
DTSTAMP:20260425T031359
CREATED:20210917T211957Z
LAST-MODIFIED:20210917T211957Z
UID:3233-1633478400-1636329599@joyredstoneart.com
SUMMARY:Vibrant and Bold
DESCRIPTION:Michael’s Flower and Fire Orchid were chosen
URL:https://joyredstoneart.com/event/vibrant-and-bold/
LOCATION:R Gallery\, 2027 Broadway\, Boulder\, 80302\, United States
END:VEVENT
BEGIN:VEVENT
DTSTART;VALUE=DATE:20210917
DTEND;VALUE=DATE:20211025
DTSTAMP:20260425T031359
CREATED:20210917T212424Z
LAST-MODIFIED:20210917T212424Z
UID:3235-1631836800-1635119999@joyredstoneart.com
SUMMARY:Movement
DESCRIPTION:Until Now is in this member show.
URL:https://joyredstoneart.com/event/movement/
LOCATION:Next Gallery\, 6851 W Colfax Ave\, Lakewood\, CO\, 80214\, United States
END:VEVENT
BEGIN:VEVENT
DTSTART;TZID=UTC:20210904T080000
DTEND;TZID=UTC:20210912T170000
DTSTAMP:20260425T031359
CREATED:20210726T190931Z
LAST-MODIFIED:20210726T190931Z
UID:2879-1630742400-1631466000@joyredstoneart.com
SUMMARY:Louisville Art Association Fine Art Show
DESCRIPTION:Lineage was chosen for this national juried show.
URL:https://joyredstoneart.com/event/louisville-art-association-fine-art-show/
LOCATION:Louisville Art Association\, 801 Grant Ave\, Louisville\, CO\, United States
END:VEVENT
BEGIN:VEVENT
DTSTART;VALUE=DATE:20210904
DTEND;VALUE=DATE:20210927
DTSTAMP:20260425T031359
CREATED:20210730T231934Z
LAST-MODIFIED:20210730T231934Z
UID:2893-1630713600-1632700799@joyredstoneart.com
SUMMARY:The Divine Feminine
DESCRIPTION:This 3 woman show features Joy\, Eva Maier and Natalie Smith with their interpretation of the sacred aspects of womanhood.
URL:https://joyredstoneart.com/event/the-divine-feminine/
LOCATION:NOBO\, 4919 Broadway\, Boulder\, 80304\, United States
END:VEVENT
BEGIN:VEVENT
DTSTART;VALUE=DATE:20210903
DTEND;VALUE=DATE:20211004
DTSTAMP:20260425T031359
CREATED:20210820T194143Z
LAST-MODIFIED:20210820T194143Z
UID:2913-1630627200-1633305599@joyredstoneart.com
SUMMARY:Community Healing
DESCRIPTION:My Winged Heart and When She Spoke were chosen for this juried show.
URL:https://joyredstoneart.com/event/community-healing/
LOCATION:First United Methodist Church\, 1421 Spruce St\, Boulder\, CO\, 80302\, United States
END:VEVENT
BEGIN:VEVENT
DTSTART;VALUE=DATE:20210821
DTEND;VALUE=DATE:20211004
DTSTAMP:20260425T031359
CREATED:20210820T193655Z
LAST-MODIFIED:20210820T193655Z
UID:2910-1629504000-1633305599@joyredstoneart.com
SUMMARY:Trees and Flowers
DESCRIPTION:Assunta was chosen for this juried show.
URL:https://joyredstoneart.com/event/trees-and-flowers/
LOCATION:R Gallery\, 2027 Broadway\, Boulder\, 80302\, United States
END:VEVENT
BEGIN:VEVENT
DTSTART;VALUE=DATE:20210820
DTEND;VALUE=DATE:20210910
DTSTAMP:20260425T031359
CREATED:20210730T231206Z
LAST-MODIFIED:20210730T231206Z
UID:2889-1629417600-1631231999@joyredstoneart.com
SUMMARY:Viral Hope
DESCRIPTION:Colorado Cries was chosen for this juried show
URL:https://joyredstoneart.com/event/viral-hope/
LOCATION:Bitfactory\, 851 N. Santa Fe Dr.\, Denver\, CO\, United States
END:VEVENT
BEGIN:VEVENT
DTSTART;VALUE=DATE:20210820
DTEND;VALUE=DATE:20210928
DTSTAMP:20260425T031359
CREATED:20210727T224248Z
LAST-MODIFIED:20210727T224248Z
UID:2883-1629417600-1632787199@joyredstoneart.com
SUMMARY:City of Lafayette Lost and Found Exhibit
DESCRIPTION:Fire Orchid and I Will Protect You were chosen for this juried show.
URL:https://joyredstoneart.com/event/city-of-lafayette-lost-and-found-exhibit/
LOCATION:Collective Community Art Center\, 201 N. Public Rd\, Lafayette\, CO\, United States
END:VEVENT
BEGIN:VEVENT
DTSTART;TZID=UTC:20210806T080000
DTEND;TZID=UTC:20210901T170000
DTSTAMP:20260425T031359
CREATED:20210726T190419Z
LAST-MODIFIED:20210726T190419Z
UID:2877-1628236800-1630515600@joyredstoneart.com
SUMMARY:Spectrum: 40 West Arts District
DESCRIPTION:Lineage and My Winged Heart were selected
URL:https://joyredstoneart.com/event/spectrum-40-west-arts-district/
LOCATION:40 West Gallery\, 1560 Teller St\, Lakewood\, CO\, 80214\, United States
END:VEVENT
END:VCALENDAR