BEGIN:VCALENDAR
VERSION:2.0
PRODID:-//Joy Redstone Art - ECPv6.15.20//NONSGML v1.0//EN
CALSCALE:GREGORIAN
METHOD:PUBLISH
X-ORIGINAL-URL:https://joyredstoneart.com
X-WR-CALDESC:Events for Joy Redstone Art
REFRESH-INTERVAL;VALUE=DURATION:PT1H
X-Robots-Tag:noindex
X-PUBLISHED-TTL:PT1H
BEGIN:VTIMEZONE
TZID:UTC
BEGIN:STANDARD
TZOFFSETFROM:+0000
TZOFFSETTO:+0000
TZNAME:UTC
DTSTART:20210101T000000
END:STANDARD
END:VTIMEZONE
BEGIN:VEVENT
DTSTART;VALUE=DATE:20231208
DTEND;VALUE=DATE:20240107
DTSTAMP:20260424T222730
CREATED:20231129T014906Z
LAST-MODIFIED:20231129T014906Z
UID:4158-1701993600-1704585599@joyredstoneart.com
SUMMARY:Banging On the Machine
DESCRIPTION:The Abyss Stared Back and Crossroads were chosen for this juried show.
URL:https://joyredstoneart.com/event/banging-on-the-machine/
LOCATION:The Lab On Santa Fe\, 840 Santa Fe Dr\, Denver\, CO\, 80204\, United States
END:VEVENT
BEGIN:VEVENT
DTSTART;VALUE=DATE:20231202
DTEND;VALUE=DATE:20240120
DTSTAMP:20260424T222730
CREATED:20231114T182414Z
LAST-MODIFIED:20231114T182414Z
UID:4131-1701475200-1705708799@joyredstoneart.com
SUMMARY:SEEN
DESCRIPTION:Self Remembrance and The Altar were chosen for this juried show.
URL:https://joyredstoneart.com/event/seen/
LOCATION:First United Methodist Church\, 1421 Spruce St\, Boulder\, CO\, 80302\, United States
END:VEVENT
BEGIN:VEVENT
DTSTART;VALUE=DATE:20231201
DTEND;VALUE=DATE:20231228
DTSTAMP:20260424T222730
CREATED:20231123T022429Z
LAST-MODIFIED:20231123T022429Z
UID:4156-1701388800-1703721599@joyredstoneart.com
SUMMARY:Krampus Show
DESCRIPTION:Feeding Your Demons was chosen for this juried show.
URL:https://joyredstoneart.com/event/krampus-show/
LOCATION:Memento Mori Gallery\, 6451 W. Colfax Ave Suite B\, Lakewood\, CO\, 80214\, United States
END:VEVENT
BEGIN:VEVENT
DTSTART;VALUE=DATE:20231103
DTEND;VALUE=DATE:20231201
DTSTAMP:20260424T222730
CREATED:20231005T134352Z
LAST-MODIFIED:20231005T134352Z
UID:4061-1698969600-1701388799@joyredstoneart.com
SUMMARY:Honoring Heather
DESCRIPTION:Solo show of assemblage art and altered photography in memory of my sister\, Heather.
URL:https://joyredstoneart.com/event/honoring-heather/
LOCATION:NOBO\, 4919 Broadway\, Boulder\, 80304\, United States
END:VEVENT
BEGIN:VEVENT
DTSTART;VALUE=DATE:20231022
DTEND;VALUE=DATE:20231204
DTSTAMP:20260424T222730
CREATED:20231114T182140Z
LAST-MODIFIED:20231114T182140Z
UID:4129-1697932800-1701647999@joyredstoneart.com
SUMMARY:After Midnight
DESCRIPTION:Dark Flower is in this member show.
URL:https://joyredstoneart.com/event/after-midnight/
LOCATION:Next Gallery\, 6851 W Colfax Ave\, Lakewood\, CO\, 80214\, United States
END:VEVENT
BEGIN:VEVENT
DTSTART;VALUE=DATE:20230916
DTEND;VALUE=DATE:20231021
DTSTAMP:20260424T222730
CREATED:20231005T134048Z
LAST-MODIFIED:20231005T134048Z
UID:4059-1694822400-1697846399@joyredstoneart.com
SUMMARY:Broken
DESCRIPTION:Grace’s Passing was in this group show.
URL:https://joyredstoneart.com/event/broken/
LOCATION:Next Gallery\, 6851 W Colfax Ave\, Lakewood\, CO\, 80214\, United States
END:VEVENT
BEGIN:VEVENT
DTSTART;VALUE=DATE:20230831
DTEND;VALUE=DATE:20230925
DTSTAMP:20260424T222730
CREATED:20230724T141726Z
LAST-MODIFIED:20230724T141726Z
UID:4043-1693440000-1695599999@joyredstoneart.com
SUMMARY:Spot On
DESCRIPTION:Ghost Spring was accepted into this juried show.
URL:https://joyredstoneart.com/event/spot-on/
LOCATION:D’Art Gallery\, 900 Santa Fe Dr\, Denver\, CO\, 80204\, United States
END:VEVENT
BEGIN:VEVENT
DTSTART;VALUE=DATE:20230721
DTEND;VALUE=DATE:20230814
DTSTAMP:20260424T222730
CREATED:20230718T131751Z
LAST-MODIFIED:20230718T131751Z
UID:4039-1689897600-1691971199@joyredstoneart.com
SUMMARY:Radiance
DESCRIPTION:Solo show of photograhs
URL:https://joyredstoneart.com/event/radiance/
LOCATION:SYNC Gallery\, 931 Santa Fe Dr\, Denver\, CO\, 80204\, United States
END:VEVENT
BEGIN:VEVENT
DTSTART;VALUE=DATE:20230630
DTEND;VALUE=DATE:20230815
DTSTAMP:20260424T222730
CREATED:20230531T211146Z
LAST-MODIFIED:20230531T211146Z
UID:4022-1688083200-1692057599@joyredstoneart.com
SUMMARY:Lost and Found
DESCRIPTION:And Yet\, I Still Love You was chosen for this juried show
URL:https://joyredstoneart.com/event/lost-and-found/
LOCATION:Collective Community Art Center\, 201 N. Public Rd\, Lafayette\, CO\, United States
END:VEVENT
BEGIN:VEVENT
DTSTART;VALUE=DATE:20230522
DTEND;VALUE=DATE:20230725
DTSTAMP:20260424T222730
CREATED:20230718T131506Z
LAST-MODIFIED:20230718T131506Z
UID:4036-1684713600-1690243199@joyredstoneart.com
SUMMARY:Doorways
DESCRIPTION:Crossroads was chosen for this juried show.
URL:https://joyredstoneart.com/event/doorways/
LOCATION:First United Methodist Church\, 1421 Spruce St\, Boulder\, CO\, 80302\, United States
END:VEVENT
BEGIN:VEVENT
DTSTART;VALUE=DATE:20230426
DTEND;VALUE=DATE:20230605
DTSTAMP:20260424T222730
CREATED:20230504T023148Z
LAST-MODIFIED:20230504T023343Z
UID:3967-1682467200-1685923199@joyredstoneart.com
SUMMARY:Colorado Creatives Unleashed
DESCRIPTION:Blue Flower was chosen for this juried show.
URL:https://joyredstoneart.com/event/colorado-creatives-unleashed/
LOCATION:R Gallery\, 2027 Broadway\, Boulder\, 80302\, United States
END:VEVENT
BEGIN:VEVENT
DTSTART;VALUE=DATE:20230422
DTEND;VALUE=DATE:20230508
DTSTAMP:20260424T222730
CREATED:20230504T023458Z
LAST-MODIFIED:20230504T023724Z
UID:3969-1682121600-1683503999@joyredstoneart.com
SUMMARY:Irreparable/Infinite
DESCRIPTION:This solo show at Next Gallery explores the theme of healing trauma through art.
URL:https://joyredstoneart.com/event/irreparable-infinite/
LOCATION:Next Gallery\, 6851 W Colfax Ave\, Lakewood\, CO\, 80214\, United States
END:VEVENT
BEGIN:VEVENT
DTSTART;VALUE=DATE:20230407
DTEND;VALUE=DATE:20230430
DTSTAMP:20260424T222730
CREATED:20230315T020335Z
LAST-MODIFIED:20230315T020335Z
UID:3901-1680825600-1682812799@joyredstoneart.com
SUMMARY:Flora and Fauna
DESCRIPTION:I Will Protect You\, Crystal Flower and Verdant were chosen for this juried show.
URL:https://joyredstoneart.com/event/flora-and-fauna/
LOCATION:Memento Mori Gallery\, 6451 W. Colfax Ave Suite B\, Lakewood\, CO\, 80214\, United States
END:VEVENT
BEGIN:VEVENT
DTSTART;VALUE=DATE:20230406
DTEND;VALUE=DATE:20230507
DTSTAMP:20260424T222730
CREATED:20230322T171815Z
LAST-MODIFIED:20230322T171815Z
UID:3912-1680739200-1683417599@joyredstoneart.com
SUMMARY:Women in Art\, 2023
DESCRIPTION:Let Loss Be Your Guide was chosen for this online juried show.
URL:https://joyredstoneart.com/event/women-in-art-2023/
LOCATION:Las Laguna Gallery\, 577 S. Coast Highway Unit A-1\, Laguna Beach\, CA\, 92651\, United States
END:VEVENT
BEGIN:VEVENT
DTSTART;VALUE=DATE:20230401
DTEND;VALUE=DATE:20230424
DTSTAMP:20260424T222730
CREATED:20230310T235852Z
LAST-MODIFIED:20230310T235852Z
UID:3894-1680307200-1682294399@joyredstoneart.com
SUMMARY:Rise: Blue Bench 2nd Annual Art Show
DESCRIPTION:Virginal was chosen for this juried show.
URL:https://joyredstoneart.com/event/rise-blue-bench-2nd-annual-art-show/
LOCATION:Blue Bench\, Denver Co\, CO\, 80218\, United States
END:VEVENT
BEGIN:VEVENT
DTSTART;VALUE=DATE:20230321
DTEND;VALUE=DATE:20230501
DTSTAMP:20260424T222730
CREATED:20230321T133910Z
LAST-MODIFIED:20230321T133910Z
UID:3908-1679356800-1682899199@joyredstoneart.com
SUMMARY:Metamorphosis
DESCRIPTION:This show features flora and fauna from Joy’s work
URL:https://joyredstoneart.com/event/metamorphosis/
LOCATION:Lincoln Gallery\, 429 N Lincoln Ave #5617\,\, Loveland\, CO\, United States
END:VEVENT
BEGIN:VEVENT
DTSTART;VALUE=DATE:20230307
DTEND;VALUE=DATE:20230405
DTSTAMP:20260424T222730
CREATED:20230310T235327Z
LAST-MODIFIED:20230310T235327Z
UID:3890-1678147200-1680652799@joyredstoneart.com
SUMMARY:Celebrating Women
DESCRIPTION:The Witnesses and Tell the Truth were chosen for this juried show.
URL:https://joyredstoneart.com/event/celebrating-women/
LOCATION:First United Methodist Church\, 1421 Spruce St\, Boulder\, CO\, 80302\, United States
END:VEVENT
BEGIN:VEVENT
DTSTART;VALUE=DATE:20230306
DTEND;VALUE=DATE:20230406
DTSTAMP:20260424T222730
CREATED:20230310T235508Z
LAST-MODIFIED:20230310T235508Z
UID:3892-1678060800-1680739199@joyredstoneart.com
SUMMARY:40West Photography Show
DESCRIPTION:Incandescent was chosen for this juried show.
URL:https://joyredstoneart.com/event/40west-photography-show/
LOCATION:40 West Gallery\, 1560 Teller St\, Lakewood\, CO\, 80214\, United States
END:VEVENT
BEGIN:VEVENT
DTSTART;VALUE=DATE:20230306
DTEND;VALUE=DATE:20230417
DTSTAMP:20260424T222730
CREATED:20230310T235151Z
LAST-MODIFIED:20230310T235151Z
UID:3888-1678060800-1681689599@joyredstoneart.com
SUMMARY:Flight
DESCRIPTION:Persephone is in this member show.
URL:https://joyredstoneart.com/event/flight/
LOCATION:Next Gallery\, 6851 W Colfax Ave\, Lakewood\, CO\, 80214\, United States
END:VEVENT
BEGIN:VEVENT
DTSTART;VALUE=DATE:20230207
DTEND;VALUE=DATE:20230227
DTSTAMP:20260424T222730
CREATED:20230119T154218Z
LAST-MODIFIED:20230119T154218Z
UID:3842-1675728000-1677455999@joyredstoneart.com
SUMMARY:Conversations
DESCRIPTION:Crystal Flower\, Blue Flower\, Green Flower\, Harvest Moon\, Ephemeral\, Hymn of the Forest Wind\, Until Now and Fire Orchid are in this invitational exhibit. 
URL:https://joyredstoneart.com/event/conversations/
LOCATION:First United Methodist Church\, 1421 Spruce St\, Boulder\, CO\, 80302\, United States
END:VEVENT
BEGIN:VEVENT
DTSTART;VALUE=DATE:20230203
DTEND;VALUE=DATE:20230303
DTSTAMP:20260424T222730
CREATED:20230129T003845Z
LAST-MODIFIED:20230129T003845Z
UID:3853-1675382400-1677801599@joyredstoneart.com
SUMMARY:Dark Heart
DESCRIPTION:“Let Loss Be Your Guide” was chosen for this juried show.
URL:https://joyredstoneart.com/event/dark-heart/
LOCATION:Kanon Collective\, 6851 W. Colfax Ave\, Lakewood\, CO\, 80214
END:VEVENT
BEGIN:VEVENT
DTSTART;VALUE=DATE:20230202
DTEND;VALUE=DATE:20230226
DTSTAMP:20260424T222730
CREATED:20221223T175154Z
LAST-MODIFIED:20221223T175154Z
UID:3824-1675296000-1677369599@joyredstoneart.com
SUMMARY:Climate Change 2023
DESCRIPTION:Hymn of the Forest Wind was chosen for this juried online show.
URL:https://joyredstoneart.com/event/climate-change-2023/
LOCATION:Las Laguna Gallery\, 577 S. Coast Highway Unit A-1\, Laguna Beach\, CA\, 92651\, United States
END:VEVENT
BEGIN:VEVENT
DTSTART;VALUE=DATE:20230101
DTEND;VALUE=DATE:20230213
DTSTAMP:20260424T222730
CREATED:20230107T233810Z
LAST-MODIFIED:20230107T233810Z
UID:3832-1672531200-1676246399@joyredstoneart.com
SUMMARY:Elements
DESCRIPTION:“And Yet I Still Love You” is in this group show.
URL:https://joyredstoneart.com/event/elements-2/
LOCATION:Next Gallery\, 6851 W Colfax Ave\, Lakewood\, CO\, 80214\, United States
END:VEVENT
BEGIN:VEVENT
DTSTART;TZID=UTC:20221216T080000
DTEND;TZID=UTC:20230115T170000
DTSTAMP:20260424T222730
CREATED:20221213T222817Z
LAST-MODIFIED:20221213T222817Z
UID:3814-1671177600-1673802000@joyredstoneart.com
SUMMARY:All In
DESCRIPTION:“I Will Protect You”\, “The Abyss Stared Back” and “Self Remembrance” are in this member’s show.
URL:https://joyredstoneart.com/event/all-in/
LOCATION:SYNC Gallery\, 931 Santa Fe Dr\, Denver\, CO\, 80204\, United States
END:VEVENT
BEGIN:VEVENT
DTSTART;VALUE=DATE:20221118
DTEND;VALUE=DATE:20221119
DTSTAMP:20260424T222730
CREATED:20221012T021024Z
LAST-MODIFIED:20221012T021024Z
UID:3729-1668729600-1668729600@joyredstoneart.com
SUMMARY:Quintessence
DESCRIPTION:Solo show at SYNC Gallery.
URL:https://joyredstoneart.com/event/quintessence/
LOCATION:SYNC Gallery\, 931 Santa Fe Dr\, Denver\, CO\, 80204\, United States
END:VEVENT
BEGIN:VEVENT
DTSTART;VALUE=DATE:20221118
DTEND;VALUE=DATE:20230110
DTSTAMP:20260424T222730
CREATED:20221012T020725Z
LAST-MODIFIED:20221012T020725Z
UID:3727-1668729600-1673308799@joyredstoneart.com
SUMMARY:Finding Common Ground in an Uncommon World
DESCRIPTION:Emergence and Let Loss Be Your Guide were chosen for this juried show.
URL:https://joyredstoneart.com/event/finding-common-ground-in-an-uncommon-world/
LOCATION:Collective Community Art Center\, 201 N. Public Rd\, Lafayette\, CO\, United States
END:VEVENT
BEGIN:VEVENT
DTSTART;VALUE=DATE:20221014
DTEND;VALUE=DATE:20221120
DTSTAMP:20260424T222730
CREATED:20221002T161105Z
LAST-MODIFIED:20221002T161105Z
UID:3720-1665705600-1668902399@joyredstoneart.com
SUMMARY:Nocturnal
DESCRIPTION:Night Fall and Dusky Days were invited to this juried show.
URL:https://joyredstoneart.com/event/nocturnal/
LOCATION:3Cs Art Collective\, 402 Main St. #C\, Lyons\, CO\, 80540\, United States
END:VEVENT
BEGIN:VEVENT
DTSTART;VALUE=DATE:20220903
DTEND;VALUE=DATE:20220912
DTSTAMP:20260424T222730
CREATED:20220723T032757Z
LAST-MODIFIED:20220723T032757Z
UID:3616-1662163200-1662940799@joyredstoneart.com
SUMMARY:Louisville Art Association National Fine Art Show
DESCRIPTION:What Lies Beneath was selected for this juried show\,
URL:https://joyredstoneart.com/event/louisville-art-association-national-fine-art-show/
LOCATION:Louisville Art Association\, 801 Grant Ave\, Louisville\, CO\, United States
END:VEVENT
BEGIN:VEVENT
DTSTART;VALUE=DATE:20220902
DTEND;VALUE=DATE:20221001
DTSTAMP:20260424T222730
CREATED:20220816T192704Z
LAST-MODIFIED:20220816T192704Z
UID:3641-1662076800-1664582399@joyredstoneart.com
SUMMARY:Lover of the Light: Solo Show
DESCRIPTION:Lover of the Light will feature a selection of Joy’s best work.
URL:https://joyredstoneart.com/event/lover-of-the-light-solo-show/
LOCATION:Artlight Therapy Studios\, 1220 Bonito Ave\, Grand Junction\, CO\, 81506\, United States
END:VEVENT
BEGIN:VEVENT
DTSTART;VALUE=DATE:20220901
DTEND;VALUE=DATE:20220926
DTSTAMP:20260424T222730
CREATED:20220801T155019Z
LAST-MODIFIED:20220801T155019Z
UID:3626-1661990400-1664150399@joyredstoneart.com
SUMMARY:Spot On #3
DESCRIPTION:Tell The Truth was chosen for this juried show.
URL:https://joyredstoneart.com/event/spot-on-3/
LOCATION:D’Art Gallery\, 900 Santa Fe Dr\, Denver\, CO\, 80204\, United States
END:VEVENT
END:VCALENDAR