BEGIN:VCALENDAR
VERSION:2.0
PRODID:-//Joy Redstone Art - ECPv6.15.20//NONSGML v1.0//EN
CALSCALE:GREGORIAN
METHOD:PUBLISH
X-WR-CALNAME:Joy Redstone Art
X-ORIGINAL-URL:https://joyredstoneart.com
X-WR-CALDESC:Events for Joy Redstone Art
REFRESH-INTERVAL;VALUE=DURATION:PT1H
X-Robots-Tag:noindex
X-PUBLISHED-TTL:PT1H
BEGIN:VTIMEZONE
TZID:UTC
BEGIN:STANDARD
TZOFFSETFROM:+0000
TZOFFSETTO:+0000
TZNAME:UTC
DTSTART:20220101T000000
END:STANDARD
END:VTIMEZONE
BEGIN:VEVENT
DTSTART;VALUE=DATE:20240913
DTEND;VALUE=DATE:20241007
DTSTAMP:20260424T191516
CREATED:20240905T021815Z
LAST-MODIFIED:20240905T021815Z
UID:4369-1726185600-1728259199@joyredstoneart.com
SUMMARY:Seed
DESCRIPTION:Self Exploration was chosen for this juried show.
URL:https://joyredstoneart.com/event/seed/
LOCATION:BRDG Project\, 3300 Tejon St.\, Denver\, CO\, 80211\, United States
END:VEVENT
BEGIN:VEVENT
DTSTART;VALUE=DATE:20240802
DTEND;VALUE=DATE:20240812
DTSTAMP:20260424T191516
CREATED:20240727T130510Z
LAST-MODIFIED:20240727T130510Z
UID:4354-1722556800-1723420799@joyredstoneart.com
SUMMARY:D'Art 360 Pop Up Show
DESCRIPTION:Prodigal Heart is in this member’s show.
URL:https://joyredstoneart.com/event/dart-360-pop-up-show/
LOCATION:D’Art Gallery\, 900 Santa Fe Dr\, Denver\, CO\, 80204\, United States
END:VEVENT
BEGIN:VEVENT
DTSTART;VALUE=DATE:20240802
DTEND;VALUE=DATE:20240825
DTSTAMP:20260424T191516
CREATED:20240727T123508Z
LAST-MODIFIED:20240727T123508Z
UID:4352-1722556800-1724543999@joyredstoneart.com
SUMMARY:Color Out of Space
DESCRIPTION:Everything Ends was chosen for this juried show.
URL:https://joyredstoneart.com/event/color-out-of-space/
LOCATION:Memento Mori Gallery\, 6451 W. Colfax Ave Suite B\, Lakewood\, CO\, 80214\, United States
END:VEVENT
BEGIN:VEVENT
DTSTART;VALUE=DATE:20240712
DTEND;VALUE=DATE:20240811
DTSTAMP:20260424T191516
CREATED:20240625T123108Z
LAST-MODIFIED:20240625T123108Z
UID:4267-1720742400-1723334399@joyredstoneart.com
SUMMARY:Intricacy
DESCRIPTION:Self Exploration\, And Yet I Still Love You and Michael’s Flower were chosen for this juried show.
URL:https://joyredstoneart.com/event/intricacy/
LOCATION:The Lab On Santa Fe\, 840 Santa Fe Dr\, Denver\, CO\, 80204\, United States
END:VEVENT
BEGIN:VEVENT
DTSTART;VALUE=DATE:20240712
DTEND;VALUE=DATE:20240829
DTSTAMP:20260424T191516
CREATED:20240619T194842Z
LAST-MODIFIED:20240619T194842Z
UID:4256-1720742400-1724889599@joyredstoneart.com
SUMMARY:PORTRAITS\, POSES AND TABLEAUX VIVANTS
DESCRIPTION:Boulder Boy was accepted to this juried show.
URL:https://joyredstoneart.com/event/portraits-poses-and-tableaux-vivants/
LOCATION:Core Gallery\, 6501 W. Colfax\, Lakewood\, CO\, 80214\, United States
END:VEVENT
BEGIN:VEVENT
DTSTART;VALUE=DATE:20240705
DTEND;VALUE=DATE:20240804
DTSTAMP:20260424T191516
CREATED:20240625T023711Z
LAST-MODIFIED:20240625T023711Z
UID:4262-1720137600-1722729599@joyredstoneart.com
SUMMARY:House of Medusa
DESCRIPTION:Medusa was chosen for this juried show.
URL:https://joyredstoneart.com/event/house-of-medusa/
LOCATION:Benchmark Theatre\, 1560 Teller St\, Lakewood\, CO\, 80214\, United States
END:VEVENT
BEGIN:VEVENT
DTSTART;VALUE=DATE:20240620
DTEND;VALUE=DATE:20240707
DTSTAMP:20260424T191516
CREATED:20240602T160049Z
LAST-MODIFIED:20240602T160049Z
UID:4243-1718841600-1720310399@joyredstoneart.com
SUMMARY:Power and Compassion: A World in Harmony
DESCRIPTION:Featured in this collaborative show with 3 other artists.
URL:https://joyredstoneart.com/event/power-and-compassion-a-world-in-harmony/
LOCATION:The Lab On Santa Fe\, 840 Santa Fe Dr\, Denver\, CO\, 80204\, United States
END:VEVENT
BEGIN:VEVENT
DTSTART;VALUE=DATE:20240608
DTEND;VALUE=DATE:20240708
DTSTAMP:20260424T191516
CREATED:20240520T133054Z
LAST-MODIFIED:20240520T133054Z
UID:4240-1717804800-1720396799@joyredstoneart.com
SUMMARY:Remake\, Reuse\, Recycle
DESCRIPTION:How To Dream was accepted into this juried show.
URL:https://joyredstoneart.com/event/remake-reuse-recycle/
LOCATION:Pace Center\, 20000 Pikes Peak Ave.\, Parker\, CO\, 80138\, United States
END:VEVENT
BEGIN:VEVENT
DTSTART;VALUE=DATE:20240510
DTEND;VALUE=DATE:20240701
DTSTAMP:20260424T191516
CREATED:20240409T221627Z
LAST-MODIFIED:20240409T221627Z
UID:4226-1715299200-1719791999@joyredstoneart.com
SUMMARY:Rejectamento
DESCRIPTION:Vernal and Blush are in this show.
URL:https://joyredstoneart.com/event/rejectamento/
LOCATION:Art Contained Del Sol\, 3058 W. 55thAve.\, Denver\, CO\, 80221\, United States
END:VEVENT
BEGIN:VEVENT
DTSTART;VALUE=DATE:20240510
DTEND;VALUE=DATE:20240601
DTSTAMP:20260424T191516
CREATED:20240408T231404Z
LAST-MODIFIED:20240408T231404Z
UID:4223-1715299200-1717199999@joyredstoneart.com
SUMMARY:Lincoln Gallery 2024 National Fine Art Show
DESCRIPTION:Crossroads was chosen for this juried show.
URL:https://joyredstoneart.com/event/lincoln-gallery-2024-national-fine-art-show/
LOCATION:Lincoln Gallery\, 429 N Lincoln Ave #5617\,\, Loveland\, CO\, United States
END:VEVENT
BEGIN:VEVENT
DTSTART;VALUE=DATE:20240405
DTEND;VALUE=DATE:20240427
DTSTAMP:20260424T191516
CREATED:20240316T004649Z
LAST-MODIFIED:20240316T004650Z
UID:4220-1712275200-1714175999@joyredstoneart.com
SUMMARY:3rd Annual Rise Art Show
DESCRIPTION:Reclamation and The Witnesses were chosen for this online juried show.
URL:https://joyredstoneart.com/event/3rd-annual-rise-art-show/
LOCATION:Online
END:VEVENT
BEGIN:VEVENT
DTSTART;VALUE=DATE:20240308
DTEND;VALUE=DATE:20240325
DTSTAMP:20260424T191516
CREATED:20240127T145924Z
LAST-MODIFIED:20240127T145924Z
UID:4188-1709856000-1711324799@joyredstoneart.com
SUMMARY:Sunshine Daydream
DESCRIPTION:2024 solo show featuring digitally altered photography and assemblage art
URL:https://joyredstoneart.com/event/sunshine-daydream/
LOCATION:Next Gallery\, 6851 W Colfax Ave\, Lakewood\, CO\, 80214\, United States
END:VEVENT
BEGIN:VEVENT
DTSTART;VALUE=DATE:20240302
DTEND;VALUE=DATE:20240428
DTSTAMP:20260424T191516
CREATED:20240127T145718Z
LAST-MODIFIED:20240201T161837Z
UID:4185-1709337600-1714262399@joyredstoneart.com
SUMMARY:Reflections of Culture/WCACO
DESCRIPTION:Good Witch\, Persphone\, and Ode to Frida are in this members show. .
URL:https://joyredstoneart.com/event/body-of-knowledge-wcaco/
LOCATION:Armory Performing ARts Center\, 300 Strong St\, Brighton\, CO\, 80601\, United States
END:VEVENT
BEGIN:VEVENT
DTSTART;VALUE=DATE:20240301
DTEND;VALUE=DATE:20240325
DTSTAMP:20260424T191516
CREATED:20240221T150837Z
LAST-MODIFIED:20240221T150837Z
UID:4204-1709251200-1711324799@joyredstoneart.com
SUMMARY:Doubt and It's Double
DESCRIPTION:Of Monsters and Men was chosen for this juried show.
URL:https://joyredstoneart.com/event/doubt-and-its-double/
LOCATION:The Lab On Santa Fe\, 840 Santa Fe Dr\, Denver\, CO\, 80204\, United States
END:VEVENT
BEGIN:VEVENT
DTSTART;VALUE=DATE:20240216
DTEND;VALUE=DATE:20240311
DTSTAMP:20260424T191516
CREATED:20240123T031748Z
LAST-MODIFIED:20240123T031748Z
UID:4180-1708041600-1710115199@joyredstoneart.com
SUMMARY:Syncopation
DESCRIPTION:How To Dream was chosen for this juried show.
URL:https://joyredstoneart.com/event/syncopation/
LOCATION:SYNC Gallery\, 931 Santa Fe Dr\, Denver\, CO\, 80204\, United States
END:VEVENT
BEGIN:VEVENT
DTSTART;TZID=UTC:20240202T080000
DTEND;TZID=UTC:20240219T170000
DTSTAMP:20260424T191516
CREATED:20240127T012530Z
LAST-MODIFIED:20240127T012530Z
UID:4182-1706860800-1708362000@joyredstoneart.com
SUMMARY:Dark Heart
DESCRIPTION:Self Harm and 100 MPH were chosen for this juried show.
URL:https://joyredstoneart.com/event/dark-heart-2/
LOCATION:Kanon Collective\, 6851 W. Colfax Ave\, Lakewood\, CO\, 80214
END:VEVENT
BEGIN:VEVENT
DTSTART;VALUE=DATE:20240202
DTEND;VALUE=DATE:20240215
DTSTAMP:20260424T191516
CREATED:20240131T174035Z
LAST-MODIFIED:20240201T161239Z
UID:4190-1706832000-1707955199@joyredstoneart.com
SUMMARY:Art Fusion: Love's Tapestry in Every Medium
DESCRIPTION:How to Dream\, And Yet I Still Love You and What is Lost is Not Forgotten\, What is Good Will Never Change were accepted to this juried show.
URL:https://joyredstoneart.com/event/art-fusion-loves-tapestry-in-every-medium/
LOCATION:Genesis Gallery\, 1390 Brentwood St\, Lakewood\, CO\, 80214\, United States
END:VEVENT
BEGIN:VEVENT
DTSTART;VALUE=DATE:20240202
DTEND;VALUE=DATE:20240226
DTSTAMP:20260424T191516
CREATED:20240116T215238Z
LAST-MODIFIED:20240116T215238Z
UID:4178-1706832000-1708905599@joyredstoneart.com
SUMMARY:Body of Knowledge
DESCRIPTION:Crossroads is in this WCACO member show.
URL:https://joyredstoneart.com/event/body-of-knowledge/
LOCATION:Niza Knoll Gallery\, 915 Santa Fe Dr\, Denver\, CO\, 80204\, United States
END:VEVENT
BEGIN:VEVENT
DTSTART;VALUE=DATE:20240126
DTEND;VALUE=DATE:20240212
DTSTAMP:20260424T191516
CREATED:20240110T144026Z
LAST-MODIFIED:20240110T144026Z
UID:4175-1706227200-1707695999@joyredstoneart.com
SUMMARY:Terra-Ground-Earth
DESCRIPTION:Gone Beyond the Great Beyond was chosen for this juried show.
URL:https://joyredstoneart.com/event/terra-ground-earth/
LOCATION:Core Gallery\, 6501 W. Colfax\, Lakewood\, CO\, 80214\, United States
END:VEVENT
BEGIN:VEVENT
DTSTART;VALUE=DATE:20231215
DTEND;VALUE=DATE:20240109
DTSTAMP:20260424T191516
CREATED:20231118T233621Z
LAST-MODIFIED:20231118T233621Z
UID:4134-1702598400-1704758399@joyredstoneart.com
SUMMARY:All In
DESCRIPTION:Sunshine\, Summer Love and And Yet\, I Still Love You are in this member show.
URL:https://joyredstoneart.com/event/all-in-2/
LOCATION:SYNC Gallery\, 931 Santa Fe Dr\, Denver\, CO\, 80204\, United States
END:VEVENT
BEGIN:VEVENT
DTSTART;VALUE=DATE:20231208
DTEND;VALUE=DATE:20240107
DTSTAMP:20260424T191516
CREATED:20231129T014906Z
LAST-MODIFIED:20231129T014906Z
UID:4158-1701993600-1704585599@joyredstoneart.com
SUMMARY:Banging On the Machine
DESCRIPTION:The Abyss Stared Back and Crossroads were chosen for this juried show.
URL:https://joyredstoneart.com/event/banging-on-the-machine/
LOCATION:The Lab On Santa Fe\, 840 Santa Fe Dr\, Denver\, CO\, 80204\, United States
END:VEVENT
BEGIN:VEVENT
DTSTART;VALUE=DATE:20231202
DTEND;VALUE=DATE:20240120
DTSTAMP:20260424T191516
CREATED:20231114T182414Z
LAST-MODIFIED:20231114T182414Z
UID:4131-1701475200-1705708799@joyredstoneart.com
SUMMARY:SEEN
DESCRIPTION:Self Remembrance and The Altar were chosen for this juried show.
URL:https://joyredstoneart.com/event/seen/
LOCATION:First United Methodist Church\, 1421 Spruce St\, Boulder\, CO\, 80302\, United States
END:VEVENT
BEGIN:VEVENT
DTSTART;VALUE=DATE:20231201
DTEND;VALUE=DATE:20231228
DTSTAMP:20260424T191516
CREATED:20231123T022429Z
LAST-MODIFIED:20231123T022429Z
UID:4156-1701388800-1703721599@joyredstoneart.com
SUMMARY:Krampus Show
DESCRIPTION:Feeding Your Demons was chosen for this juried show.
URL:https://joyredstoneart.com/event/krampus-show/
LOCATION:Memento Mori Gallery\, 6451 W. Colfax Ave Suite B\, Lakewood\, CO\, 80214\, United States
END:VEVENT
BEGIN:VEVENT
DTSTART;VALUE=DATE:20231103
DTEND;VALUE=DATE:20231201
DTSTAMP:20260424T191516
CREATED:20231005T134352Z
LAST-MODIFIED:20231005T134352Z
UID:4061-1698969600-1701388799@joyredstoneart.com
SUMMARY:Honoring Heather
DESCRIPTION:Solo show of assemblage art and altered photography in memory of my sister\, Heather.
URL:https://joyredstoneart.com/event/honoring-heather/
LOCATION:NOBO\, 4919 Broadway\, Boulder\, 80304\, United States
END:VEVENT
BEGIN:VEVENT
DTSTART;VALUE=DATE:20231022
DTEND;VALUE=DATE:20231204
DTSTAMP:20260424T191516
CREATED:20231114T182140Z
LAST-MODIFIED:20231114T182140Z
UID:4129-1697932800-1701647999@joyredstoneart.com
SUMMARY:After Midnight
DESCRIPTION:Dark Flower is in this member show.
URL:https://joyredstoneart.com/event/after-midnight/
LOCATION:Next Gallery\, 6851 W Colfax Ave\, Lakewood\, CO\, 80214\, United States
END:VEVENT
BEGIN:VEVENT
DTSTART;VALUE=DATE:20230916
DTEND;VALUE=DATE:20231021
DTSTAMP:20260424T191516
CREATED:20231005T134048Z
LAST-MODIFIED:20231005T134048Z
UID:4059-1694822400-1697846399@joyredstoneart.com
SUMMARY:Broken
DESCRIPTION:Grace’s Passing was in this group show.
URL:https://joyredstoneart.com/event/broken/
LOCATION:Next Gallery\, 6851 W Colfax Ave\, Lakewood\, CO\, 80214\, United States
END:VEVENT
BEGIN:VEVENT
DTSTART;VALUE=DATE:20230831
DTEND;VALUE=DATE:20230925
DTSTAMP:20260424T191516
CREATED:20230724T141726Z
LAST-MODIFIED:20230724T141726Z
UID:4043-1693440000-1695599999@joyredstoneart.com
SUMMARY:Spot On
DESCRIPTION:Ghost Spring was accepted into this juried show.
URL:https://joyredstoneart.com/event/spot-on/
LOCATION:D’Art Gallery\, 900 Santa Fe Dr\, Denver\, CO\, 80204\, United States
END:VEVENT
BEGIN:VEVENT
DTSTART;VALUE=DATE:20230721
DTEND;VALUE=DATE:20230814
DTSTAMP:20260424T191516
CREATED:20230718T131751Z
LAST-MODIFIED:20230718T131751Z
UID:4039-1689897600-1691971199@joyredstoneart.com
SUMMARY:Radiance
DESCRIPTION:Solo show of photograhs
URL:https://joyredstoneart.com/event/radiance/
LOCATION:SYNC Gallery\, 931 Santa Fe Dr\, Denver\, CO\, 80204\, United States
END:VEVENT
BEGIN:VEVENT
DTSTART;VALUE=DATE:20230630
DTEND;VALUE=DATE:20230815
DTSTAMP:20260424T191516
CREATED:20230531T211146Z
LAST-MODIFIED:20230531T211146Z
UID:4022-1688083200-1692057599@joyredstoneart.com
SUMMARY:Lost and Found
DESCRIPTION:And Yet\, I Still Love You was chosen for this juried show
URL:https://joyredstoneart.com/event/lost-and-found/
LOCATION:Collective Community Art Center\, 201 N. Public Rd\, Lafayette\, CO\, United States
END:VEVENT
BEGIN:VEVENT
DTSTART;VALUE=DATE:20230522
DTEND;VALUE=DATE:20230725
DTSTAMP:20260424T191516
CREATED:20230718T131506Z
LAST-MODIFIED:20230718T131506Z
UID:4036-1684713600-1690243199@joyredstoneart.com
SUMMARY:Doorways
DESCRIPTION:Crossroads was chosen for this juried show.
URL:https://joyredstoneart.com/event/doorways/
LOCATION:First United Methodist Church\, 1421 Spruce St\, Boulder\, CO\, 80302\, United States
END:VEVENT
END:VCALENDAR