BEGIN:VCALENDAR
VERSION:2.0
PRODID:-//Joy Redstone Art - ECPv6.15.20//NONSGML v1.0//EN
CALSCALE:GREGORIAN
METHOD:PUBLISH
X-WR-CALNAME:Joy Redstone Art
X-ORIGINAL-URL:https://joyredstoneart.com
X-WR-CALDESC:Events for Joy Redstone Art
REFRESH-INTERVAL;VALUE=DURATION:PT1H
X-Robots-Tag:noindex
X-PUBLISHED-TTL:PT1H
BEGIN:VTIMEZONE
TZID:UTC
BEGIN:STANDARD
TZOFFSETFROM:+0000
TZOFFSETTO:+0000
TZNAME:UTC
DTSTART:20190101T000000
END:STANDARD
END:VTIMEZONE
BEGIN:VEVENT
DTSTART;VALUE=DATE:20201201
DTEND;VALUE=DATE:20210101
DTSTAMP:20260425T114428
CREATED:20201203T030827Z
LAST-MODIFIED:20201203T030827Z
UID:2480-1606780800-1609459199@joyredstoneart.com
SUMMARY:Lightspacetime.art Nature 2020 Art Exhibition
DESCRIPTION:I Will Protect You received a “special recognition” award in this show\,
URL:https://joyredstoneart.com/event/lightspacetime-art-nature-2020-art-exhibition/
LOCATION:Lightspacetime.art
END:VEVENT
BEGIN:VEVENT
DTSTART;VALUE=DATE:20201120
DTEND;VALUE=DATE:20210101
DTSTAMP:20260425T114428
CREATED:20201110T035759Z
LAST-MODIFIED:20201110T035759Z
UID:2466-1605830400-1609459199@joyredstoneart.com
SUMMARY:Next Gallery Holiday Market
DESCRIPTION:Selected pieces and photographs for sale
URL:https://joyredstoneart.com/event/next-gallery-holiday-market/
LOCATION:Next Gallery\, 6851 W Colfax Ave\, Lakewood\, CO\, 80214\, United States
END:VEVENT
BEGIN:VEVENT
DTSTART;VALUE=DATE:20201106
DTEND;VALUE=DATE:20201201
DTSTAMP:20260425T114428
CREATED:20201110T035520Z
LAST-MODIFIED:20201110T035520Z
UID:2463-1604620800-1606780799@joyredstoneart.com
SUMMARY:Studio32NOBO Featured Artist
DESCRIPTION:
URL:https://joyredstoneart.com/event/studio32nobo-featured-artist/
LOCATION:Studio32Nobo\, 4919 Broadway\, Unit # 32\, Boulder\, CO\, 80304
END:VEVENT
BEGIN:VEVENT
DTSTART;VALUE=DATE:20201106
DTEND;VALUE=DATE:20201201
DTSTAMP:20260425T114428
CREATED:20201110T035046Z
LAST-MODIFIED:20201110T035046Z
UID:2461-1604620800-1606780799@joyredstoneart.com
SUMMARY:40West Gallery: Life and Death
DESCRIPTION:Arachnoiditis and Colorado Cries were selected for this juried show.
URL:https://joyredstoneart.com/event/40west-gallery-life-and-death/
LOCATION:40 West Gallery\, 1560 Teller St\, Lakewood\, CO\, 80214\, United States
END:VEVENT
BEGIN:VEVENT
DTSTART;VALUE=DATE:20201002
DTEND;VALUE=DATE:20201028
DTSTAMP:20260425T114428
CREATED:20200827T014100Z
LAST-MODIFIED:20200827T014100Z
UID:2426-1601596800-1603843199@joyredstoneart.com
SUMMARY:40West: The Art of Conservation
DESCRIPTION:Begin Again\, Forest Flower and Our Hearts Grew Weary were accepted into this show.
URL:https://joyredstoneart.com/event/40west-the-art-of-conservation/
LOCATION:40 West Gallery\, 1560 Teller St\, Lakewood\, CO\, 80214\, United States
END:VEVENT
BEGIN:VEVENT
DTSTART;VALUE=DATE:20200903
DTEND;VALUE=DATE:20200927
DTSTAMP:20260425T114428
CREATED:20200817T163758Z
LAST-MODIFIED:20200817T163758Z
UID:2414-1599091200-1601164799@joyredstoneart.com
SUMMARY:2020 The 2nd Half - 50 and Over Exhibition at Las Laguna Gallery
DESCRIPTION:Forest Flower was invited to be in this show
URL:https://joyredstoneart.com/event/2020-the-2nd-half-50-and-over-exhibition-at-las-laguna-gallery/
LOCATION:Las Laguna Gallery\, 577 S. Coast Highway Unit A-1\, Laguna Beach\, CA\, 92651\, United States
END:VEVENT
BEGIN:VEVENT
DTSTART;VALUE=DATE:20200831
DTEND;VALUE=DATE:20200908
DTSTAMP:20260425T114428
CREATED:20200801T155919Z
LAST-MODIFIED:20200801T155919Z
UID:2405-1598832000-1599523199@joyredstoneart.com
SUMMARY:Louisville Art Association 2020 National Juried Show
DESCRIPTION:When She Spoke and Born were accepted
URL:https://joyredstoneart.com/event/louisville-art-association-2020-national-juried-show/
END:VEVENT
BEGIN:VEVENT
DTSTART;VALUE=DATE:20200801
DTEND;VALUE=DATE:20200901
DTSTAMP:20260425T114428
CREATED:20200801T155614Z
LAST-MODIFIED:20200801T155614Z
UID:2403-1596240000-1598918399@joyredstoneart.com
SUMMARY:40 West Member Showcase\, Aug 1-31
DESCRIPTION:“Forest Flower\, Nymph\, Way to Blue\, Born\, The Watcher\, The Quickening\, Dionysus\, I Will Protect You”
URL:https://joyredstoneart.com/event/40-west-member-showcase-aug-1-31/
LOCATION:40 West Gallery\, 1560 Teller St\, Lakewood\, CO\, 80214\, United States
END:VEVENT
BEGIN:VEVENT
DTSTART;VALUE=DATE:20200710
DTEND;VALUE=DATE:20200727
DTSTAMP:20260425T114428
CREATED:20200618T230032Z
LAST-MODIFIED:20200618T230032Z
UID:2339-1594339200-1595807999@joyredstoneart.com
SUMMARY:Core New Art Space: Black and White Show
DESCRIPTION:“All My Grandmothers” was selected for this show.
URL:https://joyredstoneart.com/event/core-new-art-space-black-and-white-show/
END:VEVENT
BEGIN:VEVENT
DTSTART;VALUE=DATE:20200701
DTEND;VALUE=DATE:20200801
DTSTAMP:20260425T114428
CREATED:20200630T185749Z
LAST-MODIFIED:20200630T190011Z
UID:2345-1593561600-1596239999@joyredstoneart.com
SUMMARY:Lightspacetime.art Primary Colors 2020 Art Exhibition
DESCRIPTION:Walking on Eggshells was selected for this show.
URL:https://joyredstoneart.com/event/lightspacetime-art-primary-colors-2020-art-exhibition/
END:VEVENT
BEGIN:VEVENT
DTSTART;VALUE=DATE:20200616
DTEND;VALUE=DATE:20200726
DTSTAMP:20260425T114428
CREATED:20200513T025012Z
LAST-MODIFIED:20200513T025012Z
UID:2330-1592265600-1595721599@joyredstoneart.com
SUMMARY:SAGE’s 10th Annual National Juried Show
DESCRIPTION:Sunrise Sacrament was invited to this show.
URL:https://joyredstoneart.com/event/sages-10th-annual-national-juried-show/
LOCATION:SAGE Community Arts\, 21 W Brundage St\, Sheridan\, CO\, 82801\, United States
END:VEVENT
BEGIN:VEVENT
DTSTART;VALUE=DATE:20200616
DTEND;VALUE=DATE:20200726
DTSTAMP:20260425T114428
CREATED:20200504T035921Z
LAST-MODIFIED:20200504T035921Z
UID:2320-1592265600-1595721599@joyredstoneart.com
SUMMARY:SAGE 10th Annual National Juried Show
DESCRIPTION:Sunrise Sacrament will be shown in this show.
URL:https://joyredstoneart.com/event/sage-10th-annual-national-juried-show/
LOCATION:SAGE Community Arts\, 21 W Brundage St\, Sheridan\, CO\, 82801\, United States
END:VEVENT
BEGIN:VEVENT
DTSTART;VALUE=DATE:20200604
DTEND;VALUE=DATE:20200628
DTSTAMP:20260425T114428
CREATED:20200519T135513Z
LAST-MODIFIED:20200519T135513Z
UID:2332-1591228800-1593302399@joyredstoneart.com
SUMMARY:Small Works/Big Talent 2020  Las Laguna Gallery
DESCRIPTION:Crazy in Love was invited to be in this show.
URL:https://joyredstoneart.com/event/small-works-big-talent-2020-las-laguna-gallery/
LOCATION:Las Laguna Gallery\, 577 S. Coast Highway Unit A-1\, Laguna Beach\, CA\, 92651\, United States
END:VEVENT
BEGIN:VEVENT
DTSTART;VALUE=DATE:20200601
DTEND;VALUE=DATE:20200701
DTSTAMP:20260425T114428
CREATED:20200613T000302Z
LAST-MODIFIED:20200613T000302Z
UID:2336-1590969600-1593561599@joyredstoneart.com
SUMMARY:Lightspacetime.art Seascapes 2020 Art Exhibition
DESCRIPTION:The Altar was selected for this show.
URL:https://joyredstoneart.com/event/lightspacetime-art-seascapes-2020-art-exhibition/
END:VEVENT
BEGIN:VEVENT
DTSTART;TZID=UTC:20200531T080000
DTEND;TZID=UTC:20200531T170000
DTSTAMP:20260425T114428
CREATED:20200409T015539Z
LAST-MODIFIED:20200409T015539Z
UID:2258-1590912000-1590944400@joyredstoneart.com
SUMMARY:R Gallery Strange Times
DESCRIPTION:This virtual show includes Michael’s Flower and Ghost Spring  \nhttps://rgallery.art/collections/strange-times/mixed-media
URL:https://joyredstoneart.com/event/r-gallery-strange-times/
LOCATION:R Gallery\, 2027 Broadway\, Boulder\, 80302\, United States
END:VEVENT
BEGIN:VEVENT
DTSTART;VALUE=DATE:20200514
DTEND;VALUE=DATE:20200628
DTSTAMP:20260425T114429
CREATED:20200509T014532Z
LAST-MODIFIED:20200509T014532Z
UID:2324-1589414400-1593302399@joyredstoneart.com
SUMMARY:Marin Society of Artists Expressions 2020
DESCRIPTION:Sunrise Sacrament is shown in this group show.
URL:https://joyredstoneart.com/event/marin-society-of-artists-expressions-2020/
LOCATION:Marin Society of Artists\, 1515 3rd St & E Street\, San Rafael\, CO\, 94901\, United States
END:VEVENT
BEGIN:VEVENT
DTSTART;VALUE=DATE:20200513
DTEND;VALUE=DATE:20200601
DTSTAMP:20260425T114429
CREATED:20200218T010043Z
LAST-MODIFIED:20200219T185330Z
UID:1926-1589328000-1590969599@joyredstoneart.com
SUMMARY:Expressions of the Aftermath: NEXT Joint Show with Charlee Walter
DESCRIPTION:
URL:https://joyredstoneart.com/event/expressions-of-the-aftermath-next-joint-show-with-charlee-walter/
LOCATION:Next Gallery\, 6851 W Colfax Ave\, Lakewood\, CO\, 80214\, United States
END:VEVENT
BEGIN:VEVENT
DTSTART;VALUE=DATE:20200509
DTEND;VALUE=DATE:20200701
DTSTAMP:20260425T114429
CREATED:20200509T023734Z
LAST-MODIFIED:20200509T023734Z
UID:2326-1588982400-1593561599@joyredstoneart.com
SUMMARY:Firehouse Art Center Online Show
DESCRIPTION:Included in this show is: “Walking on Eggshells”\, “Take Me\, I’m Yours” and “Sunrise Sacrament”
URL:https://joyredstoneart.com/event/firehouse-art-center-online-show/
LOCATION:Firehouse Art Center\, 667 4th Ave\, Longmont\, CO\, 80501
END:VEVENT
BEGIN:VEVENT
DTSTART;VALUE=DATE:20200507
DTEND;VALUE=DATE:20200531
DTSTAMP:20260425T114429
CREATED:20200412T235446Z
LAST-MODIFIED:20200412T235446Z
UID:2260-1588809600-1590883199@joyredstoneart.com
SUMMARY:Las Laguna Gallery: Laguna Beach Open 2020
DESCRIPTION:The Narcissist\, Sunrise Sacrament and Take Me\, I’m Yours are featured in this juried show.
URL:https://joyredstoneart.com/event/las-laguna-gallery-laguna-beach-open-2020/
LOCATION:Las Laguna Gallery\, 577 S. Coast Highway Unit A-1\, Laguna Beach\, CA\, 92651\, United States
END:VEVENT
BEGIN:VEVENT
DTSTART;VALUE=DATE:20200501
DTEND;VALUE=DATE:20200701
DTSTAMP:20260425T114429
CREATED:20200416T030244Z
LAST-MODIFIED:20200416T030244Z
UID:2306-1588291200-1593561599@joyredstoneart.com
SUMMARY:40 West Gallery: Lost and Found
DESCRIPTION:This show will feature “Springtime on Sugarloaf” and “Too Much/Not Enough”
URL:https://joyredstoneart.com/event/40-west-gallery-lost-and-found/
LOCATION:40 West Gallery\, 1560 Teller St\, Lakewood\, CO\, 80214\, United States
END:VEVENT
BEGIN:VEVENT
DTSTART;VALUE=DATE:20200409
DTEND;VALUE=DATE:20200601
DTSTAMP:20260425T114429
CREATED:20200409T015100Z
LAST-MODIFIED:20200409T015100Z
UID:2255-1586390400-1590969599@joyredstoneart.com
SUMMARY:Vanessa Lacy Gallery Small Works Show
DESCRIPTION:
URL:https://joyredstoneart.com/event/vanessa-lacy-gallery-small-works-show/
LOCATION:Vanessa Lacy Gallery\, 1600 Gennessee St.\, Kansas City\, 64102\, United States
END:VEVENT
BEGIN:VEVENT
DTSTART;VALUE=DATE:20200327
DTEND;VALUE=DATE:20200405
DTSTAMP:20260425T114429
CREATED:20200122T201514Z
LAST-MODIFIED:20200316T032640Z
UID:1366-1585267200-1586044799@joyredstoneart.com
SUMMARY:In The Mood for Mindfulness Art Exhibit ON HOLD
DESCRIPTION:
URL:https://joyredstoneart.com/event/in-the-mood-for-mindfulness-art-exhibit/
LOCATION:Boulder Shambhala Center\, Community Room\, 1345 Spruce Street\, Boulder\, CO\, 80302\, United States
END:VEVENT
BEGIN:VEVENT
DTSTART;VALUE=DATE:20200317
DTEND;VALUE=DATE:20200427
DTSTAMP:20260425T114429
CREATED:20200308T205715Z
LAST-MODIFIED:20200316T032814Z
UID:2240-1584403200-1587945599@joyredstoneart.com
SUMMARY:Upcycled: Creative Reuse ON HOLD
DESCRIPTION:Artists’ Reception: Friday\, March 27\, 6:00pm-8:00pm
URL:https://joyredstoneart.com/event/upcycled-creative-reuse/
LOCATION:R Gallery\, 2027 Broadway\, Boulder\, 80302\, United States
END:VEVENT
BEGIN:VEVENT
DTSTART;VALUE=DATE:20200223
DTEND;VALUE=DATE:20200409
DTSTAMP:20260425T114429
CREATED:20200218T010820Z
LAST-MODIFIED:20200218T010820Z
UID:1931-1582416000-1586390399@joyredstoneart.com
SUMMARY:Darkness Before Dawn
DESCRIPTION:
URL:https://joyredstoneart.com/event/darkness-before-dawn/
LOCATION:Pine Street Church\, 1237 Pine Street\, Boulder\, CO\, 80302\, United States
END:VEVENT
BEGIN:VEVENT
DTSTART;TZID=UTC:20200214T170000
DTEND;TZID=UTC:20200214T200000
DTSTAMP:20260425T114429
CREATED:20200122T203401Z
LAST-MODIFIED:20200122T203401Z
UID:1380-1581699600-1581710400@joyredstoneart.com
SUMMARY:Artist's Vision Show Artist Reception
DESCRIPTION:
URL:https://joyredstoneart.com/event/artists-vision-show-artist-reception/
LOCATION:Marin Society of Artists\, 1515 3rd St & E Street\, San Rafael\, CO\, 94901\, United States
END:VEVENT
BEGIN:VEVENT
DTSTART;VALUE=DATE:20200206
DTEND;VALUE=DATE:20200301
DTSTAMP:20260425T114429
CREATED:20200122T203216Z
LAST-MODIFIED:20200122T203216Z
UID:1375-1580947200-1583020799@joyredstoneart.com
SUMMARY:Artist's Vision Show
DESCRIPTION:
URL:https://joyredstoneart.com/event/artists-vision-show/
LOCATION:Marin Society of Artists\, 1515 3rd St & E Street\, San Rafael\, CO\, 94901\, United States
END:VEVENT
BEGIN:VEVENT
DTSTART;VALUE=DATE:20200121
DTEND;VALUE=DATE:20200229
DTSTAMP:20260425T114429
CREATED:20200122T204410Z
LAST-MODIFIED:20200122T204410Z
UID:1382-1579564800-1582934399@joyredstoneart.com
SUMMARY:Art of Hope Show
DESCRIPTION:
URL:https://joyredstoneart.com/event/art-of-hope-show/
LOCATION:Mississippi State\, 415 Barr Avenue\, Mississippi State\, MS\, 39762\, United States
END:VEVENT
END:VCALENDAR