BEGIN:VCALENDAR
VERSION:2.0
PRODID:-//Joy Redstone Art - ECPv6.15.20//NONSGML v1.0//EN
CALSCALE:GREGORIAN
METHOD:PUBLISH
X-ORIGINAL-URL:https://joyredstoneart.com
X-WR-CALDESC:Events for Joy Redstone Art
REFRESH-INTERVAL;VALUE=DURATION:PT1H
X-Robots-Tag:noindex
X-PUBLISHED-TTL:PT1H
BEGIN:VTIMEZONE
TZID:UTC
BEGIN:STANDARD
TZOFFSETFROM:+0000
TZOFFSETTO:+0000
TZNAME:UTC
DTSTART:20250101T000000
END:STANDARD
END:VTIMEZONE
BEGIN:VEVENT
DTSTART;VALUE=DATE:20260403
DTEND;VALUE=DATE:20260426
DTSTAMP:20260424T140628
CREATED:20260307T230030Z
LAST-MODIFIED:20260307T230146Z
UID:4663-1775174400-1777161599@joyredstoneart.com
SUMMARY:2026 RISE Art Gallery
DESCRIPTION:Vagina Mandala was chosen for this juried show.
URL:https://joyredstoneart.com/event/2026-rise-art-gallery/
LOCATION:40 West Gallery\, 1560 Teller St\, Lakewood\, CO\, 80214\, United States
END:VEVENT
BEGIN:VEVENT
DTSTART;VALUE=DATE:20260410
DTEND;VALUE=DATE:20260504
DTSTAMP:20260424T140628
CREATED:20260206T163910Z
LAST-MODIFIED:20260206T163910Z
UID:4657-1775779200-1777852799@joyredstoneart.com
SUMMARY:Kiss My Aspen
DESCRIPTION:Swan Song was accepted to this juried show.
URL:https://joyredstoneart.com/event/kiss-my-aspen/
LOCATION:The Lab On Santa Fe\, 840 Santa Fe Dr\, Denver\, CO\, 80204\, United States
END:VEVENT
BEGIN:VEVENT
DTSTART;VALUE=DATE:20260508
DTEND;VALUE=DATE:20260606
DTSTAMP:20260424T140628
CREATED:20260405T221106Z
LAST-MODIFIED:20260405T221424Z
UID:4665-1778198400-1780703999@joyredstoneart.com
SUMMARY:Lincoln Gallery 2026 National Fine Art and Photography Show
DESCRIPTION:Insight and Lights Will Guide You Home were chosen for this juried show.
URL:https://joyredstoneart.com/event/lincoln-gallery-2026-national-fine-art-and-photography-show/
LOCATION:Lincoln Gallery\, 429 N Lincoln Ave #5617\,\, Loveland\, CO\, United States
END:VEVENT
BEGIN:VEVENT
DTSTART;VALUE=DATE:20260516
DTEND;VALUE=DATE:20260625
DTSTAMP:20260424T140628
CREATED:20260407T154941Z
LAST-MODIFIED:20260407T154941Z
UID:4689-1778889600-1782345599@joyredstoneart.com
SUMMARY:Summer Abstractions: Works of Abstract Art
DESCRIPTION:In the Beginning was chosen for this invitational show.
URL:https://joyredstoneart.com/event/summer-abstractions-works-of-abstract-art/
LOCATION:St. Andrews United Methodist Church\, 9203 S University Blvd\, Highlands Ranch\, CO\, 80126\, United States
END:VEVENT
BEGIN:VEVENT
DTSTART;VALUE=DATE:20260605
DTEND;VALUE=DATE:20260906
DTSTAMP:20260424T140628
CREATED:20260410T142501Z
LAST-MODIFIED:20260410T142501Z
UID:4695-1780617600-1788652799@joyredstoneart.com
SUMMARY:Lotus and the Lion
DESCRIPTION:Rebirth was chosen for this juried show highlighting artwork with Buddhist themes
URL:https://joyredstoneart.com/event/lotus-and-the-lion/
LOCATION:Shoshoni Retreat\, 1400 Shoshoni Camp Rd\, Rollinsville\, CO\, 80474\, United States
END:VEVENT
BEGIN:VEVENT
DTSTART;VALUE=DATE:20260626
DTEND;VALUE=DATE:20260713
DTSTAMP:20260424T140628
CREATED:20260423T011553Z
LAST-MODIFIED:20260423T011553Z
UID:4701-1782432000-1783900799@joyredstoneart.com
SUMMARY:Matter and Mysticism
DESCRIPTION:Joint show with Sally Eckert.
URL:https://joyredstoneart.com/event/matter-and-mysticism/
LOCATION:Sally Eckert Art Space\, 1620 Lee Hill Rd 7\, Boulder\, 80304\, United States
END:VEVENT
END:VCALENDAR