BEGIN:VCALENDAR
VERSION:2.0
PRODID:-//Joy Redstone Art - ECPv6.15.20//NONSGML v1.0//EN
CALSCALE:GREGORIAN
METHOD:PUBLISH
X-WR-CALNAME:Joy Redstone Art
X-ORIGINAL-URL:https://joyredstoneart.com
X-WR-CALDESC:Events for Joy Redstone Art
REFRESH-INTERVAL;VALUE=DURATION:PT1H
X-Robots-Tag:noindex
X-PUBLISHED-TTL:PT1H
BEGIN:VTIMEZONE
TZID:UTC
BEGIN:STANDARD
TZOFFSETFROM:+0000
TZOFFSETTO:+0000
TZNAME:UTC
DTSTART:20230101T000000
END:STANDARD
END:VTIMEZONE
BEGIN:VEVENT
DTSTART;VALUE=DATE:20251218
DTEND;VALUE=DATE:20260112
DTSTAMP:20260424T140733
CREATED:20251006T000246Z
LAST-MODIFIED:20251006T000246Z
UID:4588-1766016000-1768175999@joyredstoneart.com
SUMMARY:Colorado Women’s Art Museum Self-Portrait Exhibition 2025\, "She Makes an Impression: Colorado Women Take A Look At Themselves”
DESCRIPTION:Lineage was chosen for this juried show.
URL:https://joyredstoneart.com/event/colorado-womens-art-museum-self-portrait-exhibition-2025-she-makes-an-impression-colorado-women-take-a-look-at-themselves/
LOCATION:D’Art Gallery\, 900 Santa Fe Dr\, Denver\, CO\, 80204\, United States
END:VEVENT
BEGIN:VEVENT
DTSTART;VALUE=DATE:20251205
DTEND;VALUE=DATE:20251229
DTSTAMP:20260424T140733
CREATED:20251015T185301Z
LAST-MODIFIED:20251015T185301Z
UID:4598-1764892800-1766966399@joyredstoneart.com
SUMMARY:D'art Holiday show
DESCRIPTION:Ephemeral\, When Life Gives You Lemons\, The Hummingbird’s Pause and Fallen Angel are in this group show.
URL:https://joyredstoneart.com/event/dart-holiday-show/
LOCATION:D’Art Gallery\, 900 Santa Fe Dr\, Denver\, CO\, 80204\, United States
END:VEVENT
BEGIN:VEVENT
DTSTART;VALUE=DATE:20251201
DTEND;VALUE=DATE:20251229
DTSTAMP:20260424T140733
CREATED:20251118T133406Z
LAST-MODIFIED:20251118T133406Z
UID:4622-1764547200-1766966399@joyredstoneart.com
SUMMARY:The Human Condition
DESCRIPTION:Intricacy was chosen for this juried show.
URL:https://joyredstoneart.com/event/the-human-condition/
LOCATION:The Lab On Santa Fe\, 840 Santa Fe Dr\, Denver\, CO\, 80204\, United States
END:VEVENT
BEGIN:VEVENT
DTSTART;VALUE=DATE:20251009
DTEND;VALUE=DATE:20251103
DTSTAMP:20260424T140733
CREATED:20250929T185127Z
LAST-MODIFIED:20250929T185718Z
UID:4583-1759968000-1762127999@joyredstoneart.com
SUMMARY:Spirit Animal Totems: Our Kindred Fauma
DESCRIPTION:I Will Protect You was chosen for this juried show.
URL:https://joyredstoneart.com/event/spirit-animal-tokens-our-kindred-fauma/
LOCATION:Valkyrie Gallery\, 445 S. Saulsbury St\, Lakewood\, CO\, 80226\, United States
END:VEVENT
BEGIN:VEVENT
DTSTART;VALUE=DATE:20251004
DTEND;VALUE=DATE:20251101
DTSTAMP:20260424T140733
CREATED:20250911T171554Z
LAST-MODIFIED:20250911T171554Z
UID:4573-1759536000-1761955199@joyredstoneart.com
SUMMARY:2025 Main St Gallery
DESCRIPTION:
URL:https://joyredstoneart.com/event/2025-main-st-gallery/
LOCATION:Main St Gallery\, 36 S Main St\, Brighton\, CO\, 80601\, United States
END:VEVENT
BEGIN:VEVENT
DTSTART;VALUE=DATE:20251003
DTEND;VALUE=DATE:20251026
DTSTAMP:20260424T140733
CREATED:20250911T194316Z
LAST-MODIFIED:20250924T020548Z
UID:4576-1759449600-1761436799@joyredstoneart.com
SUMMARY:Fortunate Son
DESCRIPTION:Reclamation was accepted to this juried show.
URL:https://joyredstoneart.com/event/fortunate-son/
LOCATION:NOBO\, 4919 Broadway\, Boulder\, 80304\, United States
END:VEVENT
BEGIN:VEVENT
DTSTART;VALUE=DATE:20250930
DTEND;VALUE=DATE:20260106
DTSTAMP:20260424T140733
CREATED:20250924T021347Z
LAST-MODIFIED:20250924T021347Z
UID:4580-1759190400-1767657599@joyredstoneart.com
SUMMARY:Longmont United Hospital Foundation's Walkway Fall Installation
DESCRIPTION:Self Remembrance\, St. Lucia Love\, Ode to Frida\, Self Exploration\, Birthing a Goddess\, Even the Darkness Has Arms\, I Pray to Everything and Nothing\, Swan Song\, The Dryad\, Gone Beyond the Great Beyond\, Abundance and Harvest Moon are in this invitational show.
URL:https://joyredstoneart.com/event/longmont-united-hospital-foundations-walkway-fall-installation/
LOCATION:Longmont United Hopital\, 1950 Mountain View Ave\, Longmont\, CO\, 80501\, United States
END:VEVENT
BEGIN:VEVENT
DTSTART;TZID=UTC:20250921T140000
DTEND;TZID=UTC:20250921T163000
DTSTAMP:20260424T140733
CREATED:20250819T134341Z
LAST-MODIFIED:20250819T134341Z
UID:4565-1758463200-1758472200@joyredstoneart.com
SUMMARY:Experiential workshop: How Does Sorrow Find a Home?
DESCRIPTION:Grief is a poorly understood and stigmatized topic in our society\, often leading those to have experienced loss to feel even more lost and alone. Grief can present in physical or emotional ways and often our loved ones do not how to support us well\, despite their good intentions. It can be difficult to put into words the practical\, emotional\, psychological and existential/spiritual impacts. Art is way of healing that is frequently very helpful to those that grieve. Joy Redstone\, an LCSW with 30 years experience and a working artist has designed a workshop that explains the grief process\, debunks common myths and explains how art helps people heal. The second half of the workshop is an experiential art making process that helps participants express their feelings by making a small piece of art. General materials provided. Feel free to bring a special item or two to add to your piece. Cost is $35
URL:https://joyredstoneart.com/event/experiential-workshop-how-does-sorrow-find-a-home/
LOCATION:CB Arts Studio\, 406 Center Dr.\, Unit C\, Superior\, CO\, 80027\, United States
END:VEVENT
BEGIN:VEVENT
DTSTART;VALUE=DATE:20250823
DTEND;VALUE=DATE:20251102
DTSTAMP:20260424T140733
CREATED:20250522T171605Z
LAST-MODIFIED:20250819T132435Z
UID:4503-1755907200-1762041599@joyredstoneart.com
SUMMARY:How Does Sorrow Find a Home?
DESCRIPTION:This solos show will be at Macky Auditorium at CU and will showcase 25+ pieces. The reception is scheduled for 9/19.
URL:https://joyredstoneart.com/event/how-does-sorrow-find-a-home/
LOCATION:Macky Auditorium\, 1595 Pleasant St\, Boulder\, Colorado\, 80309\, United States
END:VEVENT
BEGIN:VEVENT
DTSTART;VALUE=DATE:20250718
DTEND;VALUE=DATE:20250923
DTSTAMP:20260424T140733
CREATED:20250605T155309Z
LAST-MODIFIED:20250605T155309Z
UID:4510-1752796800-1758585599@joyredstoneart.com
SUMMARY:Lost and Found
DESCRIPTION:Fallen Angel was chosen for this juried show.
URL:https://joyredstoneart.com/event/lost-and-found-2/
LOCATION:Collective Community Art Center\, 201 N. Public Rd\, Lafayette\, CO\, United States
END:VEVENT
BEGIN:VEVENT
DTSTART;VALUE=DATE:20250718
DTEND;VALUE=DATE:20250802
DTSTAMP:20260424T140733
CREATED:20250522T170946Z
LAST-MODIFIED:20250522T171117Z
UID:4499-1752796800-1754092799@joyredstoneart.com
SUMMARY:D'Art 360 Anniversary show
DESCRIPTION:Fruitful Darkness\, Frozen and Fallen Angel will be in this group show.
URL:https://joyredstoneart.com/event/dart-360-anniversary-show/
LOCATION:D’Art Gallery\, 900 Santa Fe Dr\, Denver\, CO\, 80204\, United States
END:VEVENT
BEGIN:VEVENT
DTSTART;VALUE=DATE:20250715
DTEND;VALUE=DATE:20250920
DTSTAMP:20260424T140733
CREATED:20250708T165912Z
LAST-MODIFIED:20250708T165912Z
UID:4536-1752537600-1758326399@joyredstoneart.com
SUMMARY:NOBO Q3 Exhibition
DESCRIPTION:Colonization\, Everything Ends\, The Dryad\, Hymn of the Forest Wind\, Gone Beyond the Great Beyond\, and Oh\, Sweet Nothing are in this group show.
URL:https://joyredstoneart.com/event/nobo-q3-exhibition/
LOCATION:The Armory\, 4775 13th St\,\, Boulder\, CO\, 80304\, United States
END:VEVENT
BEGIN:VEVENT
DTSTART;VALUE=DATE:20250603
DTEND;VALUE=DATE:20250630
DTSTAMP:20260424T140733
CREATED:20250611T132436Z
LAST-MODIFIED:20250611T132436Z
UID:4514-1748908800-1751241599@joyredstoneart.com
SUMMARY:From Wounds to Wisdom
DESCRIPTION:This solo show is at the Smoky Hill branch of the Arapahoe County Library.
URL:https://joyredstoneart.com/event/from-wounds-to-wisdom/
LOCATION:Smoky Hill Library\, 5430 S Biscay Cr\, Centennial\, CO\, 80015\, United States
END:VEVENT
BEGIN:VEVENT
DTSTART;VALUE=DATE:20250530
DTEND;VALUE=DATE:20250817
DTSTAMP:20260424T140733
CREATED:20250328T140058Z
LAST-MODIFIED:20250328T140058Z
UID:4476-1748563200-1755388799@joyredstoneart.com
SUMMARY:Compartmentalize
DESCRIPTION:Inside Job was chosen for this juried show.
URL:https://joyredstoneart.com/event/compartmentalize/
LOCATION:Lakewood Cultural Center\, 470 S. Allison Pkwy\, Lakewood\, CO\, 80226\, United States
END:VEVENT
BEGIN:VEVENT
DTSTART;VALUE=DATE:20250509
DTEND;VALUE=DATE:20250526
DTSTAMP:20260424T140733
CREATED:20250420T002840Z
LAST-MODIFIED:20250420T002840Z
UID:4490-1746748800-1748217599@joyredstoneart.com
SUMMARY:The Artist in the Garden
DESCRIPTION:Blush was chosen for this juried show.
URL:https://joyredstoneart.com/event/the-artist-in-the-garden/
LOCATION:Core Gallery\, 6501 W. Colfax\, Lakewood\, CO\, 80214\, United States
END:VEVENT
BEGIN:VEVENT
DTSTART;VALUE=DATE:20250411
DTEND;VALUE=DATE:20250608
DTSTAMP:20260424T140733
CREATED:20250316T221950Z
LAST-MODIFIED:20250316T221950Z
UID:4474-1744329600-1749340799@joyredstoneart.com
SUMMARY:Wild at Heart and Weird on Top
DESCRIPTION:Fallen Angel was chosen for this juried show.
URL:https://joyredstoneart.com/event/wild-at-heart-and-weird-on-top/
LOCATION:The Lab On Santa Fe\, 840 Santa Fe Dr\, Denver\, CO\, 80204\, United States
END:VEVENT
BEGIN:VEVENT
DTSTART;VALUE=DATE:20250410
DTEND;VALUE=DATE:20250505
DTSTAMP:20260424T140733
CREATED:20250329T171349Z
LAST-MODIFIED:20250329T171349Z
UID:4479-1744243200-1746403199@joyredstoneart.com
SUMMARY:Celestial Dreams
DESCRIPTION:Everything Ends was chosen for this juried show.
URL:https://joyredstoneart.com/event/celestial-dreams/
LOCATION:Valkyrie Gallery\, 445 S. Saulsbury St\, Lakewood\, CO\, 80226\, United States
END:VEVENT
BEGIN:VEVENT
DTSTART;VALUE=DATE:20250401
DTEND;VALUE=DATE:20250501
DTSTAMP:20260424T140733
CREATED:20250313T134834Z
LAST-MODIFIED:20250313T134834Z
UID:4471-1743465600-1746057599@joyredstoneart.com
SUMMARY:Rise Survivor Art Show
DESCRIPTION:Reclamation was chosen for this juried show.
URL:https://joyredstoneart.com/event/rise-survivor-art-show/
LOCATION:M & D Artistries\, 773 Santa Fe Dr\, Denver\, CO\, 80204\, United States
END:VEVENT
BEGIN:VEVENT
DTSTART;VALUE=DATE:20250328
DTEND;VALUE=DATE:20250421
DTSTAMP:20260424T140733
CREATED:20250205T150835Z
LAST-MODIFIED:20250205T150835Z
UID:4449-1743120000-1745193599@joyredstoneart.com
SUMMARY:Growth
DESCRIPTION:This will be Joy’s first solo show at her new gallery\, D’Art 360
URL:https://joyredstoneart.com/event/growth/
LOCATION:D’Art Gallery\, 900 Santa Fe Dr\, Denver\, CO\, 80204\, United States
END:VEVENT
BEGIN:VEVENT
DTSTART;VALUE=DATE:20250308
DTEND;VALUE=DATE:20250330
DTSTAMP:20260424T140733
CREATED:20250205T150608Z
LAST-MODIFIED:20250205T150608Z
UID:4447-1741392000-1743292799@joyredstoneart.com
SUMMARY:In the Urban Landscape
DESCRIPTION:Following was chosen for this juried show.
URL:https://joyredstoneart.com/event/in-the-urban-landscape/
LOCATION:Curtis Center for the Arts\, 2349 East Orchard Rd\, Greenwood Village\, 80121\, United States
END:VEVENT
BEGIN:VEVENT
DTSTART;VALUE=DATE:20250307
DTEND;VALUE=DATE:20250330
DTSTAMP:20260424T140733
CREATED:20250210T141822Z
LAST-MODIFIED:20250210T141822Z
UID:4451-1741305600-1743292799@joyredstoneart.com
SUMMARY:Layers of Our Story
DESCRIPTION:Dancing Into the Future\, Dancing Her Story I and Dancing Her Story II are photos that were chosen for this juried show.
URL:https://joyredstoneart.com/event/layers-of-our-story/
LOCATION:Mint and Serif\, 1385 Carr St\, Lakewood\, CO\, 80214\, United States
END:VEVENT
BEGIN:VEVENT
DTSTART;VALUE=DATE:20241211
DTEND;VALUE=DATE:20250202
DTSTAMP:20260424T140733
CREATED:20241114T141854Z
LAST-MODIFIED:20241114T141957Z
UID:4428-1733875200-1738454399@joyredstoneart.com
SUMMARY:Seen IV
DESCRIPTION:Self Remembrance and Fruitful Darkness were chosen for this juried show.
URL:https://joyredstoneart.com/event/seen-iv/
LOCATION:First United Methodist Church\, 1421 Spruce St\, Boulder\, CO\, 80302\, United States
END:VEVENT
BEGIN:VEVENT
DTSTART;VALUE=DATE:20241205
DTEND;VALUE=DATE:20241230
DTSTAMP:20260424T140733
CREATED:20241018T173356Z
LAST-MODIFIED:20241023T133904Z
UID:4399-1733356800-1735516799@joyredstoneart.com
SUMMARY:1st Annual Holiday 360 Market
DESCRIPTION:Sigh Meter\, Let Loss Be Your Guide and Birthing a Goddess will be in this inaugural holiday show at D’Art Gallery
URL:https://joyredstoneart.com/event/1st-annual-holiday-360-market/
LOCATION:D’Art Gallery\, 900 Santa Fe Dr\, Denver\, CO\, 80204\, United States
END:VEVENT
BEGIN:VEVENT
DTSTART;VALUE=DATE:20241115
DTEND;VALUE=DATE:20241202
DTSTAMP:20260424T140733
CREATED:20241109T214427Z
LAST-MODIFIED:20241109T214427Z
UID:4426-1731628800-1733097599@joyredstoneart.com
SUMMARY:Next Up!
DESCRIPTION:How To Dream was chosen for this juried show.
URL:https://joyredstoneart.com/event/next-up/
LOCATION:Next Gallery\, 6851 W Colfax Ave\, Lakewood\, CO\, 80214\, United States
END:VEVENT
BEGIN:VEVENT
DTSTART;VALUE=DATE:20241024
DTEND;VALUE=DATE:20241124
DTSTAMP:20260424T140733
CREATED:20241009T131712Z
LAST-MODIFIED:20241009T131712Z
UID:4393-1729728000-1732406399@joyredstoneart.com
SUMMARY:Get Loud
DESCRIPTION:Inside Job was chosen for this juried show
URL:https://joyredstoneart.com/event/get-loud/
LOCATION:Rose Andom Center\, 1330 Fox St.\, Denver\, CO\, 80204\, United States
END:VEVENT
BEGIN:VEVENT
DTSTART;VALUE=DATE:20241011
DTEND;VALUE=DATE:20241024
DTSTAMP:20260424T140733
CREATED:20240830T195259Z
LAST-MODIFIED:20240830T195259Z
UID:4366-1728604800-1729727999@joyredstoneart.com
SUMMARY:2024 Main Street Gallery Fine Art Show
DESCRIPTION:Sing a Song of Remembrance was chosen for this juried show.
URL:https://joyredstoneart.com/event/2024-main-street-gallery-fine-art-show/
LOCATION:Main St Gallery\, 36 S Main St\, Brighton\, CO\, 80601\, United States
END:VEVENT
BEGIN:VEVENT
DTSTART;VALUE=DATE:20241004
DTEND;VALUE=DATE:20241027
DTSTAMP:20260424T140733
CREATED:20240926T001138Z
LAST-MODIFIED:20240926T011651Z
UID:4381-1728000000-1729987199@joyredstoneart.com
SUMMARY:Skull and Bones III
DESCRIPTION:I Dreamed of Paris was chosen for this juried show.
URL:https://joyredstoneart.com/event/skull-and-bones-iii/
LOCATION:Memento Mori Gallery\, 6451 W. Colfax Ave Suite B\, Lakewood\, CO\, 80214\, United States
END:VEVENT
BEGIN:VEVENT
DTSTART;VALUE=DATE:20240927
DTEND;VALUE=DATE:20241001
DTSTAMP:20260424T140733
CREATED:20240910T142739Z
LAST-MODIFIED:20240910T142739Z
UID:4375-1727395200-1727740799@joyredstoneart.com
SUMMARY:2024 Resound Gallery
DESCRIPTION:Crossroads and How to Dream were chosen for this juried show.
URL:https://joyredstoneart.com/event/2024-resound-gallery/
LOCATION:Resound Conference\, 7845 Lookout Rd\, Boulder\, 80503\, United States
END:VEVENT
BEGIN:VEVENT
DTSTART;VALUE=DATE:20240916
DTEND;VALUE=DATE:20241130
DTSTAMP:20260424T140733
CREATED:20240813T171638Z
LAST-MODIFIED:20240813T185434Z
UID:4361-1726444800-1732924799@joyredstoneart.com
SUMMARY:Chautauqua/Cal Wood Art in the Park Birdhouse Artist
DESCRIPTION:Was chosen for this juried event to make a birdhouse to support wildfire protection and recovery.
URL:https://joyredstoneart.com/event/chautauqua-cal-wood-art-in-the-park-birdhouse-artist/
LOCATION:Chautauqua Auditorium\, 900 Baseline Rd\, Boulder\, 80302\, United States
END:VEVENT
BEGIN:VEVENT
DTSTART;TZID=UTC:20240913T080000
DTEND;TZID=UTC:20241003T170000
DTSTAMP:20260424T140733
CREATED:20240726T184339Z
LAST-MODIFIED:20240726T184339Z
UID:4350-1726214400-1727974800@joyredstoneart.com
SUMMARY:Lincoln Gallery 2024 Regional Fine Art Show
DESCRIPTION:Fruitful Darkness and Inside Job were chosen for this juried show
URL:https://joyredstoneart.com/event/lincoln-gallery-2024-regional-fine-art-show/
LOCATION:Lincoln Gallery\, 429 N Lincoln Ave #5617\,\, Loveland\, CO\, United States
END:VEVENT
END:VCALENDAR